BEGIN:VCALENDAR
VERSION:2.0
PRODID:-//Sabre//Sabre VObject 4.5.6//EN
CALSCALE:GREGORIAN
BEGIN:VEVENT
UID:sabre-vobject-b7da12ec-a51b-4a59-8e52-4a67727205da
DTSTAMP:20260423T133127Z
SUMMARY:Taufe Rosina Schweinzer
DESCRIPTION:https://gottesdienstsuche.com/taufe-rosina-schweinzer_id40806
DTSTART:20260510T120000
LOCATION:Pfarrkirche Niederthann-St. Dionysius\, HsNr. 15\, 85301 Niedertha
 nn
END:VEVENT
END:VCALENDAR
