BEGIN:VCALENDAR
VERSION:2.0
PRODID:-//Sabre//Sabre VObject 4.5.6//EN
CALSCALE:GREGORIAN
BEGIN:VEVENT
UID:sabre-vobject-46b18b73-dfef-4d60-a17d-632ea76f9042
DTSTAMP:20260422T164727Z
SUMMARY:Pfarrgottesdienst
DESCRIPTION:https://gottesdienstsuche.com/pfarrgottesdienst_id40800
DTSTART:20260531T090000
LOCATION:Pfarrkirche Förnbach-Mariä Himmelfahrt\, Förnbachstr. 22\, 8527
 6 Förnbach
END:VEVENT
END:VCALENDAR
