BEGIN:VCALENDAR
VERSION:2.0
PRODID:-//Sabre//Sabre VObject 4.5.6//EN
CALSCALE:GREGORIAN
BEGIN:VEVENT
UID:sabre-vobject-14226804-0746-414f-a9b3-64be3174cd93
DTSTAMP:20260422T164242Z
SUMMARY:Maiandacht im Pfarrgarten (bei schlechter Witterung in der Kirche)\
 nmitgestaltet durch den PGR Förnbach mit anschließendem Umtrunk
DESCRIPTION:https://gottesdienstsuche.com/maiandacht-im-pfarrgarten-bei-sch
 lechter-witterung-in-der-kirche-mitgestaltet-durch-den-pgr-foernbach-mit-a
 nschliessendem-umtrunk_id40795
DTSTART:20260525T180000
LOCATION:Pfarrkirche Förnbach-Mariä Himmelfahrt\, Förnbachstr. 22\, 8527
 6 Förnbach
END:VEVENT
END:VCALENDAR
