BEGIN:VCALENDAR
VERSION:2.0
PRODID:-//Sabre//Sabre VObject 4.5.6//EN
CALSCALE:GREGORIAN
BEGIN:VEVENT
UID:sabre-vobject-f1128b57-4b04-4c09-a8b2-e603be3a35d0
DTSTAMP:20260422T164832Z
SUMMARY:Festgottesdienst
DESCRIPTION:https://gottesdienstsuche.com/festgottesdienst_id40793
DTSTART:20260524T103000
LOCATION:Pfarrkirche Förnbach-Mariä Himmelfahrt\, Förnbachstr. 22\, 8527
 6 Förnbach
END:VEVENT
END:VCALENDAR
