BEGIN:VCALENDAR
VERSION:2.0
PRODID:-//Sabre//Sabre VObject 4.5.6//EN
CALSCALE:GREGORIAN
BEGIN:VEVENT
UID:sabre-vobject-1e35f4f8-74e4-4a6f-bfbe-ee3cdd94c671
DTSTAMP:20260422T182028Z
SUMMARY:Gottesdienst in der Max-Elfinger-Halle \n75-Jahrfeier des Schützen
 vereins Eichenlaub Schweitenkirchen
DESCRIPTION:https://gottesdienstsuche.com/gottesdienst-in-der-max-elfinger-
 halle-75-jahrfeier-des-schuetzenvereins-eichenlaub-schweitenkirchen_id4079
 2
DTSTART:20260524T103000
LOCATION:Pfarrkirche Schweitenkirchen-St. Johann Baptist\, Kirchenweg\, 853
 01 Schweitenkirchen
END:VEVENT
END:VCALENDAR
