BEGIN:VCALENDAR
VERSION:2.0
PRODID:-//Sabre//Sabre VObject 4.5.6//EN
CALSCALE:GREGORIAN
BEGIN:VEVENT
UID:sabre-vobject-eeb5c25b-191b-46ee-b8a9-e49875d896ad
DTSTAMP:20260422T234219Z
SUMMARY:Maiandacht (Gartenbauverein Pfaffenhofen u. Schweitenkirchen) ansch
 l. gemütliches Beisammensein im Café Mion's\, Sünzhausen \n\nZeit ist f
 est\, da anschließend zu Mion's gegangen wird.
DESCRIPTION:https://gottesdienstsuche.com/maiandacht-gartenbauverein-pfaffe
 nhofen-u-schweitenkirchen-anschl-gemuetliches-beisammensein-im-cafe-mion-s
 -suenzhausen-zeit-ist-fest-da-anschliessend-zu-mion-s-gegangen-wird_id4077
 8
DTSTART:20260516T160000
LOCATION:Pfarrkirche Sünzhausen St. Koloman\, Pfarrweg 1\, 85301 Sünzhaus
 en
END:VEVENT
END:VCALENDAR
