BEGIN:VCALENDAR
VERSION:2.0
PRODID:-//Sabre//Sabre VObject 4.5.6//EN
CALSCALE:GREGORIAN
BEGIN:VEVENT
UID:sabre-vobject-990e064e-2bf0-498d-9a0f-3bf0603728fb
DTSTAMP:20260422T220020Z
SUMMARY:Taufe Constantin Seidl
DESCRIPTION:https://gottesdienstsuche.com/taufe-constantin-seidl_id40777
DTSTART:20260516T140000
LOCATION:Pfarrkirche Güntersdorf-St. Josef\, St.-Josef-Str. 25\, 85301 Gü
 ntersdorf
END:VEVENT
END:VCALENDAR
