BEGIN:VCALENDAR
VERSION:2.0
PRODID:-//Sabre//Sabre VObject 4.5.6//EN
CALSCALE:GREGORIAN
BEGIN:VEVENT
UID:sabre-vobject-2be02a64-58f7-4079-8667-b954a868ead3
DTSTAMP:20260422T200843Z
SUMMARY:Kommunionfeier
DESCRIPTION:https://gottesdienstsuche.com/kommunionfeier_id40776
DTSTART:20260516T140000
LOCATION:Pfarrkirche Schweitenkirchen-St. Johann Baptist\, Kirchenweg\, 853
 01 Schweitenkirchen
END:VEVENT
END:VCALENDAR
