BEGIN:VCALENDAR
VERSION:2.0
PRODID:-//Sabre//Sabre VObject 4.5.6//EN
CALSCALE:GREGORIAN
BEGIN:VEVENT
UID:sabre-vobject-9f2d128b-6f73-4dc2-8ced-a0f0528232eb
DTSTAMP:20260422T164623Z
SUMMARY:Kommunionfeier
DESCRIPTION:https://gottesdienstsuche.com/kommunionfeier_id40774
DTSTART:20260516T110000
LOCATION:Pfarrkirche Förnbach-Mariä Himmelfahrt\, Förnbachstr. 22\, 8527
 6 Förnbach
END:VEVENT
END:VCALENDAR
