BEGIN:VCALENDAR
VERSION:2.0
PRODID:-//Sabre//Sabre VObject 4.5.6//EN
CALSCALE:GREGORIAN
BEGIN:VEVENT
UID:sabre-vobject-9dc02ef9-e5ca-4752-85c3-210d938d2e82
DTSTAMP:20260424T094948Z
SUMMARY:Festgottesdienst an der Streitdorfer Kapelle (bei schlechter Witter
 ung in der Pfarrkirche Förnbach)
DESCRIPTION:https://gottesdienstsuche.com/festgottesdienst-an-der-streitdor
 fer-kapelle-bei-schlechter-witterung-in-der-pfarrkirche-foernbach_id40771
DTSTART:20260514T093000
LOCATION:Privatkapelle Streitdorf\, \, 85276 Förnbach
END:VEVENT
END:VCALENDAR
