BEGIN:VCALENDAR
VERSION:2.0
PRODID:-//Sabre//Sabre VObject 4.5.6//EN
CALSCALE:GREGORIAN
BEGIN:VEVENT
UID:sabre-vobject-e1c58042-451a-4991-b553-6d6e1bbd3b40
DTSTAMP:20260422T163459Z
SUMMARY:Flurumgang nach Streitdorf
DESCRIPTION:https://gottesdienstsuche.com/flurumgang-nach-streitdorf_id4076
 9
DTSTART:20260514T083000
LOCATION:Pfarrkirche Förnbach-Mariä Himmelfahrt\, Förnbachstr. 22\, 8527
 6 Förnbach
END:VEVENT
END:VCALENDAR
