BEGIN:VCALENDAR
VERSION:2.0
PRODID:-//Sabre//Sabre VObject 4.5.6//EN
CALSCALE:GREGORIAN
BEGIN:VEVENT
UID:sabre-vobject-9007e69a-d18a-4dc0-8074-a496cdfb0391
DTSTAMP:20260422T183144Z
SUMMARY:Pfarrgottesdienst
DESCRIPTION:https://gottesdienstsuche.com/pfarrgottesdienst_id40766
DTSTART:20260510T103000
LOCATION:Pfarrkirche Güntersdorf-St. Josef\, St.-Josef-Str. 25\, 85301 Gü
 ntersdorf
END:VEVENT
END:VCALENDAR
