BEGIN:VCALENDAR
VERSION:2.0
PRODID:-//Sabre//Sabre VObject 4.5.6//EN
CALSCALE:GREGORIAN
BEGIN:VEVENT
UID:sabre-vobject-545594f8-e767-4560-8996-889bcc47634e
DTSTAMP:20260422T201240Z
SUMMARY:Wortgottesfeier
DESCRIPTION:https://gottesdienstsuche.com/wortgottesfeier_id40765
DTSTART:20260510T103000
LOCATION:Pfarrkirche Schweitenkirchen-St. Johann Baptist\, Kirchenweg\, 853
 01 Schweitenkirchen
END:VEVENT
END:VCALENDAR
