BEGIN:VCALENDAR
VERSION:2.0
PRODID:-//Sabre//Sabre VObject 4.5.6//EN
CALSCALE:GREGORIAN
BEGIN:VEVENT
UID:sabre-vobject-01a0f33b-4b64-4c39-be20-425cb228cfca
DTSTAMP:20260422T164757Z
SUMMARY:Maiandacht am Rauscher-Kreuz (KDFB)\, anschl. Muttertagsfeier im Pf
 arrheim
DESCRIPTION:https://gottesdienstsuche.com/maiandacht-am-rauscher-kreuz-kdfb
 -anschl-muttertagsfeier-im-pfarrheim_id40760
DTSTART:20260509T140000
LOCATION:Pfarrkirche Förnbach-Mariä Himmelfahrt\, Förnbachstr. 22\, 8527
 6 Förnbach
END:VEVENT
END:VCALENDAR
