BEGIN:VCALENDAR
VERSION:2.0
PRODID:-//Sabre//Sabre VObject 4.5.6//EN
CALSCALE:GREGORIAN
BEGIN:VEVENT
UID:sabre-vobject-190ee0f2-75eb-4e0d-ae8f-f54da7162b56
DTSTAMP:20260422T182054Z
SUMMARY:Kommunionfeier
DESCRIPTION:https://gottesdienstsuche.com/kommunionfeier_id40759
DTSTART:20260509T140000
LOCATION:Pfarrkirche Dürnzhausen-St. Georg\, Kirchberg 7\, 85301 Dürnzhau
 sen
END:VEVENT
END:VCALENDAR
