BEGIN:VCALENDAR
VERSION:2.0
PRODID:-//Sabre//Sabre VObject 4.5.6//EN
CALSCALE:GREGORIAN
BEGIN:VEVENT
UID:sabre-vobject-9885bdf6-2c07-420a-a115-f9e8d4c809c9
DTSTAMP:20260422T201118Z
SUMMARY:Taufe Marlene Büttner
DESCRIPTION:https://gottesdienstsuche.com/taufe-marlene-buettner_id40758
DTSTART:20260509T110000
LOCATION:Filialkirche Frickendorf St. Margaretha\, St. Margareten-Weg \, 85
 301 Frickendorf
END:VEVENT
END:VCALENDAR
