BEGIN:VCALENDAR
VERSION:2.0
PRODID:-//Sabre//Sabre VObject 4.5.6//EN
CALSCALE:GREGORIAN
BEGIN:VEVENT
UID:sabre-vobject-bee8c2a3-16c4-4840-8482-27346241c1a4
DTSTAMP:20260422T164838Z
SUMMARY:Wortgottesfeier
DESCRIPTION:https://gottesdienstsuche.com/wortgottesfeier_id40750
DTSTART:20260503T103000
LOCATION:Pfarrkirche Förnbach-Mariä Himmelfahrt\, Förnbachstr. 22\, 8527
 6 Förnbach
END:VEVENT
END:VCALENDAR
