BEGIN:VCALENDAR
VERSION:2.0
PRODID:-//Sabre//Sabre VObject 4.5.6//EN
CALSCALE:GREGORIAN
BEGIN:VEVENT
UID:sabre-vobject-5cf05da6-dd39-4997-b841-e7fe2ef4318c
DTSTAMP:20260422T182057Z
SUMMARY:Pfarrgottesdienst
DESCRIPTION:https://gottesdienstsuche.com/pfarrgottesdienst_id40749
DTSTART:20260503T103000
LOCATION:Pfarrkirche Schweitenkirchen-St. Johann Baptist\, Kirchenweg\, 853
 01 Schweitenkirchen
END:VEVENT
END:VCALENDAR
