BEGIN:VCALENDAR
VERSION:2.0
PRODID:-//Sabre//Sabre VObject 4.5.6//EN
CALSCALE:GREGORIAN
BEGIN:VEVENT
UID:sabre-vobject-87249309-28e9-422f-af49-e1214487e6b3
DTSTAMP:20260425T030049Z
SUMMARY:Rosenkranz und Beichtgelegenheit
DESCRIPTION:https://gottesdienstsuche.com/gottesdienste/rosenkranz-und-beic
 htgelegenheit_id40716
DTSTART:20260425T180000
LOCATION:St. Margaretha\, Marktstraße 5\, 85084 Reichertshofen
END:VEVENT
END:VCALENDAR
