BEGIN:VCALENDAR
VERSION:2.0
PRODID:-//Sabre//Sabre VObject 4.5.6//EN
CALSCALE:GREGORIAN
BEGIN:VEVENT
UID:sabre-vobject-33dbb9d1-e3ca-4b3a-8994-9bc89acd7e4e
DTSTAMP:20260425T040339Z
SUMMARY:Stille Anbetung mit Aussetzung auf dem Kalvarienberg
DESCRIPTION:https://gottesdienstsuche.com/gottesdienste/stille-anbetung-mit
 -aussetzung-auf-dem-kalvarienberg_id40709
DTSTART:20260503T150000
LOCATION:St. Quirinus\, Schrobenhausener Straße\, 85276 Pobenhausen
END:VEVENT
END:VCALENDAR
