BEGIN:VCALENDAR
VERSION:2.0
PRODID:-//Sabre//Sabre VObject 4.5.6//EN
CALSCALE:GREGORIAN
BEGIN:VEVENT
UID:sabre-vobject-f61f2f6f-63c5-4f12-ad0e-8ab5fd6bca13
DTSTAMP:20260425T003938Z
SUMMARY:Jugendwallfahrt auf dem Kalvarienberg
DESCRIPTION:https://gottesdienstsuche.com/gottesdienste/jugendwallfahrt-auf
 -dem-kalvarienberg_id40708
DTSTART:20260503T110000
LOCATION:St. Quirinus\, Schrobenhausener Straße\, 85276 Pobenhausen
END:VEVENT
END:VCALENDAR
