BEGIN:VCALENDAR
VERSION:2.0
PRODID:-//Sabre//Sabre VObject 4.5.6//EN
CALSCALE:GREGORIAN
BEGIN:VEVENT
UID:sabre-vobject-a8f62bb7-2cdb-4cce-92fa-905360c9579b
DTSTAMP:20260424T211717Z
SUMMARY:Gottesdienst mit Maiandacht
DESCRIPTION:https://gottesdienstsuche.com/gottesdienste/gottesdienst-mit-ma
 iandacht_id40707
DTSTART:20260501T101500
LOCATION:St. Quirinus\, Schrobenhausener Straße\, 85276 Pobenhausen
END:VEVENT
END:VCALENDAR
