BEGIN:VCALENDAR
VERSION:2.0
PRODID:-//Sabre//Sabre VObject 4.5.6//EN
CALSCALE:GREGORIAN
BEGIN:VEVENT
UID:sabre-vobject-0c446f9a-c437-423d-92f1-743ed0262419
DTSTAMP:20260425T023206Z
SUMMARY:Mutter und Vatertagsfeier VDK
DESCRIPTION:https://gottesdienstsuche.com/gottesdienste/mutter-und-vatertag
 sfeier-vdk_id40705
DTSTART:20260503T140000
LOCATION:Hlgst. Dreifaltigkeit\, Hauptstraße 37\, 85123 Karlskron
END:VEVENT
END:VCALENDAR
