BEGIN:VCALENDAR
VERSION:2.0
PRODID:-//Sabre//Sabre VObject 4.5.6//EN
CALSCALE:GREGORIAN
BEGIN:VEVENT
UID:sabre-vobject-8cafc210-7e57-485d-b445-0451200fe224
DTSTAMP:20260424T134118Z
SUMMARY:Gottesdienst mit anschl. Frauenfrühstück im Haus St. Pankraz (Gar
 tenstr. 10)
DESCRIPTION:https://gottesdienstsuche.com/gottesdienste/gottesdienst-mit-an
 schl-frauenfruehstueck-im-haus-st-pankraz-gartenstr-10_id40703
DTSTART:20260428T084500
LOCATION:Hlgst. Dreifaltigkeit\, Hauptstraße 37\, 85123 Karlskron
END:VEVENT
END:VCALENDAR
