BEGIN:VCALENDAR
VERSION:2.0
PRODID:-//Sabre//Sabre VObject 4.5.6//EN
CALSCALE:GREGORIAN
BEGIN:VEVENT
UID:sabre-vobject-5d65299d-5761-4f1a-b331-5f64126df579
DTSTAMP:20260424T182624Z
SUMMARY:Abendgottesdienst mit Maiandacht
DESCRIPTION:https://gottesdienstsuche.com/gottesdienste/abendgottesdienst-m
 it-maiandacht_id40699
DTSTART:20260430T183000
LOCATION:Hlgst. Dreifaltigkeit\, Hauptstraße 37\, 85123 Karlskron
END:VEVENT
END:VCALENDAR
