BEGIN:VCALENDAR
VERSION:2.0
PRODID:-//Sabre//Sabre VObject 4.5.6//EN
CALSCALE:GREGORIAN
BEGIN:VEVENT
UID:sabre-vobject-e91955bd-8815-41b3-8f6f-846481d76ed4
DTSTAMP:20260424T170206Z
SUMMARY:Beichtgelegenheit
DESCRIPTION:https://gottesdienstsuche.com/gottesdienste/beichtgelegenheit_i
 d40698
DTSTART:20260430T180000
LOCATION:Hlgst. Dreifaltigkeit\, Hauptstraße 37\, 85123 Karlskron
END:VEVENT
END:VCALENDAR
