BEGIN:VCALENDAR
VERSION:2.0
PRODID:-//Sabre//Sabre VObject 4.5.6//EN
CALSCALE:GREGORIAN
BEGIN:VEVENT
UID:sabre-vobject-d5bdb97c-42d4-4282-aa38-0f918b8ca778
DTSTAMP:20260424T153235Z
SUMMARY:Abendgottesdienst mit Aussetzung um geistliche Berufung
DESCRIPTION:https://gottesdienstsuche.com/gottesdienste/abendgottesdienst-m
 it-aussetzung-um-geistliche-berufung_id40697
DTSTART:20260429T183000
LOCATION:St. Peter\, Hauptstr. 37\, 85123 Karlskron
END:VEVENT
END:VCALENDAR
