BEGIN:VCALENDAR
VERSION:2.0
PRODID:-//Sabre//Sabre VObject 4.5.6//EN
CALSCALE:GREGORIAN
BEGIN:VEVENT
UID:sabre-vobject-a8914141-7cec-43db-bd77-71525f07c380
DTSTAMP:20260424T225947Z
SUMMARY:Floriansmesse anschl. Segnung des neuen Feuerwehrfahrzeuges am Feue
 rwehrhaus und gemütlichem Beisammensein
DESCRIPTION:https://gottesdienstsuche.com/gottesdienste/floriansmesse-ansch
 l-segnung-des-neuen-feuerwehrfahrzeuges-am-feuerwehrhaus-und-gemuetlichem-
 beisammensein_id40694
DTSTART:20260502T180000
LOCATION:St. Peter\, Hauptstr. 37\, 85123 Karlskron
END:VEVENT
END:VCALENDAR
