BEGIN:VCALENDAR
VERSION:2.0
PRODID:-//Sabre//Sabre VObject 4.5.6//EN
CALSCALE:GREGORIAN
BEGIN:VEVENT
UID:sabre-vobject-6dfa8430-7801-4d23-91ca-8cf0ea2da271
DTSTAMP:20260424T194458Z
SUMMARY:Gottesdienst mit Maiandacht
DESCRIPTION:https://gottesdienstsuche.com/gottesdienste/gottesdienst-mit-ma
 iandacht_id40693
DTSTART:20260501T084500
LOCATION:St. Peter\, Hauptstr. 37\, 85123 Karlskron
END:VEVENT
END:VCALENDAR
