BEGIN:VCALENDAR
VERSION:2.0
PRODID:-//Sabre//Sabre VObject 4.5.6//EN
CALSCALE:GREGORIAN
BEGIN:VEVENT
UID:sabre-vobject-479f7feb-b2c7-46d2-bbd0-5db24252d764
DTSTAMP:20260424T074245Z
SUMMARY:Pfarrgottesdienst mit Verabschiedung und Einführung der Pfarrgemei
 nderatsmitglieder
DESCRIPTION:https://gottesdienstsuche.com/gottesdienste/pfarrgottesdienst-m
 it-verabschiedung-und-einfuehrung-der-pfarrgemeinderatsmitglieder_id40692
DTSTART:20260426T084500
LOCATION:St. Quirinus\, Schrobenhausener Straße\, 85276 Pobenhausen
END:VEVENT
END:VCALENDAR
