BEGIN:VCALENDAR
VERSION:2.0
PRODID:-//Sabre//Sabre VObject 4.5.6//EN
CALSCALE:GREGORIAN
BEGIN:VEVENT
UID:sabre-vobject-c05f8f75-83eb-4deb-8ad5-f192e1b52110
DTSTAMP:20260424T090534Z
SUMMARY:Sonntagsgottesdienst mit Verabschiedung und Einführung der Pfarrge
 meinderatsmitglieder
DESCRIPTION:https://gottesdienstsuche.com/gottesdienste/sonntagsgottesdiens
 t-mit-verabschiedung-und-einfuehrung-der-pfarrgemeinderatsmitglieder_id406
 91
DTSTART:20260426T100000
LOCATION:St. Peter\, Hauptstr. 37\, 85123 Karlskron
END:VEVENT
END:VCALENDAR
