BEGIN:VCALENDAR
VERSION:2.0
PRODID:-//Sabre//Sabre VObject 4.5.6//EN
CALSCALE:GREGORIAN
BEGIN:VEVENT
UID:sabre-vobject-0d909bbe-acbe-423a-a61c-bde312b8f33c
DTSTAMP:20260424T121503Z
SUMMARY:Stille Anbetung mit Aussetzung auf dem Kalvarienberg
DESCRIPTION:https://gottesdienstsuche.com/gottesdienste/stille-anbetung-mit
 -aussetzung-auf-dem-kalvarienberg_id40690
DTSTART:20260426T150000
LOCATION:St. Quirinus\, Schrobenhausener Straße\, 85276 Pobenhausen
END:VEVENT
END:VCALENDAR
