BEGIN:VCALENDAR
VERSION:2.0
PRODID:-//Sabre//Sabre VObject 4.5.6//EN
CALSCALE:GREGORIAN
BEGIN:VEVENT
UID:sabre-vobject-f33e57f2-8d1e-4474-911c-4002a8e69f72
DTSTAMP:20260424T104553Z
SUMMARY:Taufe auf dem Kalvarienberg
DESCRIPTION:https://gottesdienstsuche.com/gottesdienste/taufe-auf-dem-kalva
 rienberg_id40689
DTSTART:20260426T111500
LOCATION:St. Quirinus\, Schrobenhausener Straße\, 85276 Pobenhausen
END:VEVENT
END:VCALENDAR
