BEGIN:VCALENDAR
VERSION:2.0
PRODID:-//Sabre//Sabre VObject 4.5.6//EN
CALSCALE:GREGORIAN
BEGIN:VEVENT
UID:sabre-vobject-cb6d1b11-2826-43f0-adcc-5c6edc8f2318
DTSTAMP:20260424T060622Z
SUMMARY:Vorabendgottesdienst
DESCRIPTION:https://gottesdienstsuche.com/gottesdienste/vorabendgottesdiens
 t_id40688
DTSTART:20260425T183000
LOCATION:Hlgst. Dreifaltigkeit\, Hauptstraße 37\, 85123 Karlskron
END:VEVENT
END:VCALENDAR
