BEGIN:VCALENDAR
VERSION:2.0
PRODID:-//Sabre//Sabre VObject 4.5.6//EN
CALSCALE:GREGORIAN
BEGIN:VEVENT
UID:sabre-vobject-e138dc2e-9e4b-405d-b2b3-d2db95df8571
DTSTAMP:20260424T012321Z
SUMMARY:Taufe Kutscherauer Finn Elias
DESCRIPTION:https://gottesdienstsuche.com/gottesdienste/taufe-kutscherauer-
 finn-elias_id40687
DTSTART:20260425T140000
LOCATION:Hlgst. Dreifaltigkeit\, Hauptstraße 37\, 85123 Karlskron
END:VEVENT
END:VCALENDAR
