BEGIN:VCALENDAR
VERSION:2.0
PRODID:-//Sabre//Sabre VObject 4.5.6//EN
CALSCALE:GREGORIAN
BEGIN:VEVENT
UID:sabre-vobject-70675331-dee3-4bfb-869e-f584fc49b3d4
DTSTAMP:20260424T042332Z
SUMMARY:Beichtgelegenheit
DESCRIPTION:https://gottesdienstsuche.com/gottesdienste/beichtgelegenheit_i
 d40686
DTSTART:20260425T180000
LOCATION:Hlgst. Dreifaltigkeit\, Hauptstraße 37\, 85123 Karlskron
END:VEVENT
END:VCALENDAR
