BEGIN:VCALENDAR
VERSION:2.0
PRODID:-//Sabre//Sabre VObject 4.5.6//EN
CALSCALE:GREGORIAN
BEGIN:VEVENT
UID:sabre-vobject-c89e8003-e21b-4853-acdf-4fcdd6988ac5
DTSTAMP:20260421T221541Z
SUMMARY:Vesper mit eucharistischem Segen\n
DESCRIPTION:https://gottesdienstsuche.com/vesper-mit-eucharistischem-segen_
 id40682
DTSTART:20260531T163000
LOCATION:Pfarrkirche Scheyern-Heilig Kreuz (Klosterkirche)\, Schyrenplatz \
 , 85298 Scheyern
END:VEVENT
END:VCALENDAR
