BEGIN:VCALENDAR
VERSION:2.0
PRODID:-//Sabre//Sabre VObject 4.5.6//EN
CALSCALE:GREGORIAN
BEGIN:VEVENT
UID:sabre-vobject-c2d4d4cc-d2c3-44da-b8aa-2155d28fef26
DTSTAMP:20260421T213528Z
SUMMARY:Dank- und Bittmesse mit Hl. Kreuzsegen
DESCRIPTION:https://gottesdienstsuche.com/dank-und-bittmesse-mit-hl-kreuzse
 gen_id40673
DTSTART:20260529T190000
LOCATION:Pfarrkirche Scheyern-Heilig Kreuz (Klosterkirche)\, Schyrenplatz \
 , 85298 Scheyern
END:VEVENT
END:VCALENDAR
