BEGIN:VCALENDAR
VERSION:2.0
PRODID:-//Sabre//Sabre VObject 4.5.6//EN
CALSCALE:GREGORIAN
BEGIN:VEVENT
UID:sabre-vobject-036a17d4-8c23-4632-b950-0ec8bd4b6112
DTSTAMP:20260421T213624Z
SUMMARY:Maiandacht in Gurnöbach\, beim Wittmann-Kreuz mit der Jugendblaska
 pelle Reichertshausen
DESCRIPTION:https://gottesdienstsuche.com/maiandacht-in-gurnoebach-beim-wit
 tmann-kreuz-mit-der-jugendblaskapelle-reichertshausen_id40672
DTSTART:20260529T190000
LOCATION:Pfarrkirche Scheyern-Heilig Kreuz (Klosterkirche)\, Schyrenplatz \
 , 85298 Scheyern
END:VEVENT
END:VCALENDAR
