BEGIN:VCALENDAR
VERSION:2.0
PRODID:-//Sabre//Sabre VObject 4.5.6//EN
CALSCALE:GREGORIAN
BEGIN:VEVENT
UID:sabre-vobject-e5f68992-c2f7-4832-99d7-ccbede289a49
DTSTAMP:20260422T010030Z
SUMMARY:Maiandacht
DESCRIPTION:https://gottesdienstsuche.com/maiandacht_id40670
DTSTART:20260528T190000
LOCATION:Pfarrkirche Niederscheyern-Maria Verkündigung\, Scheyererweg 3\, 
 85276 Niederscheyern
END:VEVENT
END:VCALENDAR
