BEGIN:VCALENDAR
VERSION:2.0
PRODID:-//Sabre//Sabre VObject 4.5.6//EN
CALSCALE:GREGORIAN
BEGIN:VEVENT
UID:sabre-vobject-1a0cf2db-1f5b-4aea-80cf-ae355f53f7e1
DTSTAMP:20260423T092403Z
SUMMARY:Senioren-Hoagart'n im Gasthaus Kettner
DESCRIPTION:https://gottesdienstsuche.com/senioren-hoagart-n-im-gasthaus-ke
 ttner_id40666
DTSTART:20260527T140000
LOCATION:Pfarrkirche Gerolsbach-St. Andreas\, St.-Andreas-Str. 7\, 85302 Ge
 rolsbach
END:VEVENT
END:VCALENDAR
