BEGIN:VCALENDAR
VERSION:2.0
PRODID:-//Sabre//Sabre VObject 4.5.6//EN
CALSCALE:GREGORIAN
BEGIN:VEVENT
UID:sabre-vobject-d0c40ab6-fd91-4989-9630-da91a771e652
DTSTAMP:20260421T213633Z
SUMMARY:Konventgottesdienst
DESCRIPTION:https://gottesdienstsuche.com/konventgottesdienst_id40665
DTSTART:20260527T070000
LOCATION:Pfarrkirche Scheyern-Heilig Kreuz (Klosterkirche)\, Schyrenplatz \
 , 85298 Scheyern
END:VEVENT
END:VCALENDAR
