BEGIN:VCALENDAR
VERSION:2.0
PRODID:-//Sabre//Sabre VObject 4.5.6//EN
CALSCALE:GREGORIAN
BEGIN:VEVENT
UID:sabre-vobject-42535506-1a49-4f2a-af2f-d14a40e5d709
DTSTAMP:20260421T213703Z
SUMMARY:Konventgottesdienst
DESCRIPTION:https://gottesdienstsuche.com/konventgottesdienst_id40660
DTSTART:20260525T100000
LOCATION:Pfarrkirche Scheyern-Heilig Kreuz (Klosterkirche)\, Schyrenplatz \
 , 85298 Scheyern
END:VEVENT
END:VCALENDAR
