BEGIN:VCALENDAR
VERSION:2.0
PRODID:-//Sabre//Sabre VObject 4.5.6//EN
CALSCALE:GREGORIAN
BEGIN:VEVENT
UID:sabre-vobject-f078f142-ae14-466d-9948-2e1a2277ab07
DTSTAMP:20260421T213639Z
SUMMARY:Frühgottesdienst
DESCRIPTION:https://gottesdienstsuche.com/fruehgottesdienst_id40659
DTSTART:20260525T080000
LOCATION:Pfarrkirche Scheyern-Heilig Kreuz (Klosterkirche)\, Schyrenplatz \
 , 85298 Scheyern
END:VEVENT
END:VCALENDAR
