BEGIN:VCALENDAR
VERSION:2.0
PRODID:-//Sabre//Sabre VObject 4.5.6//EN
CALSCALE:GREGORIAN
BEGIN:VEVENT
UID:sabre-vobject-abbf8fb4-53f7-4f50-9403-db7d603eda49
DTSTAMP:20260421T213645Z
SUMMARY:Flurumgang\, Treffpunkt Parkplatz Kindergarten Froschkönig\, zum S
 tepper Kreuz. Dort Gottesdienst\, Bänke werden bereitgestellt. Bei Regen 
 führt der Weg in die Basilika.
DESCRIPTION:https://gottesdienstsuche.com/flurumgang-treffpunkt-parkplatz-k
 indergarten-froschkoenig-zum-stepper-kreuz-dort-gottesdienst-baenke-werden
 -bereitgestellt-bei-regen-fuehrt-der-weg-in-die-basilika_id40658
DTSTART:20260525T073000
LOCATION:Pfarrkirche Scheyern-Heilig Kreuz (Klosterkirche)\, Schyrenplatz \
 , 85298 Scheyern
END:VEVENT
END:VCALENDAR
