BEGIN:VCALENDAR
VERSION:2.0
PRODID:-//Sabre//Sabre VObject 4.5.6//EN
CALSCALE:GREGORIAN
BEGIN:VEVENT
UID:sabre-vobject-e8933c95-bc3c-4092-9a92-f308a844a03c
DTSTAMP:20260421T232516Z
SUMMARY:Maiandacht
DESCRIPTION:https://gottesdienstsuche.com/maiandacht_id40656
DTSTART:20260524T190000
LOCATION:Pfarrkirche Niederscheyern-Maria Verkündigung\, Scheyererweg 3\, 
 85276 Niederscheyern
END:VEVENT
END:VCALENDAR
