BEGIN:VCALENDAR
VERSION:2.0
PRODID:-//Sabre//Sabre VObject 4.5.6//EN
CALSCALE:GREGORIAN
BEGIN:VEVENT
UID:sabre-vobject-f44ae352-0cd2-4e15-98f4-7844d9af1bb5
DTSTAMP:20260421T213513Z
SUMMARY:Pontifikalvesper mit eucharistischem Segen
DESCRIPTION:https://gottesdienstsuche.com/pontifikalvesper-mit-eucharistisc
 hem-segen_id40653
DTSTART:20260524T163000
LOCATION:Pfarrkirche Scheyern-Heilig Kreuz (Klosterkirche)\, Schyrenplatz \
 , 85298 Scheyern
END:VEVENT
END:VCALENDAR
