BEGIN:VCALENDAR
VERSION:2.0
PRODID:-//Sabre//Sabre VObject 4.5.6//EN
CALSCALE:GREGORIAN
BEGIN:VEVENT
UID:sabre-vobject-584e342c-c97b-4bca-8616-662e998ae873
DTSTAMP:20260421T232513Z
SUMMARY:Festgottesdienst
DESCRIPTION:https://gottesdienstsuche.com/festgottesdienst_id40652
DTSTART:20260524T100000
LOCATION:Pfarrkirche Gerolsbach-St. Andreas\, St.-Andreas-Str. 7\, 85302 Ge
 rolsbach
END:VEVENT
END:VCALENDAR
