BEGIN:VCALENDAR
VERSION:2.0
PRODID:-//Sabre//Sabre VObject 4.5.6//EN
CALSCALE:GREGORIAN
BEGIN:VEVENT
UID:sabre-vobject-592b2b25-4045-4d1a-8da5-0bdfdc543f1a
DTSTAMP:20260423T101404Z
SUMMARY:Pontifikalgottesdienst\, Musik: W.A. Mozart: Missa brevis in B\, KV
  275
DESCRIPTION:https://gottesdienstsuche.com/pontifikalgottesdienst-musik-w-a-
 mozart-missa-brevis-in-b-kv-275_id40651
DTSTART:20260524T100000
LOCATION:Pfarrkirche Scheyern-Heilig Kreuz (Klosterkirche)\, Schyrenplatz \
 , 85298 Scheyern
END:VEVENT
END:VCALENDAR
