BEGIN:VCALENDAR
VERSION:2.0
PRODID:-//Sabre//Sabre VObject 4.5.6//EN
CALSCALE:GREGORIAN
BEGIN:VEVENT
UID:sabre-vobject-3d5bfe13-170f-4f55-961e-09f0f315391d
DTSTAMP:20260421T232510Z
SUMMARY:Pfingstgottesdienst
DESCRIPTION:https://gottesdienstsuche.com/pfingstgottesdienst_id40650
DTSTART:20260524T100000
LOCATION:Pfarrkirche Niederscheyern-Maria Verkündigung\, Scheyererweg 3\, 
 85276 Niederscheyern
END:VEVENT
END:VCALENDAR
